BEGIN:VCALENDAR
VERSION:2.0
PRODID:-//Central Mountain Intergroup - ECPv5.14.2.1//NONSGML v1.0//EN
CALSCALE:GREGORIAN
METHOD:PUBLISH
X-WR-CALNAME:Central Mountain Intergroup
X-ORIGINAL-URL:https://centralmountain.org
X-WR-CALDESC:Events for Central Mountain Intergroup
REFRESH-INTERVAL;VALUE=DURATION:PT1H
X-Robots-Tag:noindex
X-PUBLISHED-TTL:PT1H
BEGIN:VTIMEZONE
TZID:America/Phoenix
BEGIN:STANDARD
TZOFFSETFROM:-0700
TZOFFSETTO:-0700
TZNAME:MST
DTSTART:20250101T000000
END:STANDARD
END:VTIMEZONE
BEGIN:VEVENT
DTSTART;TZID=America/Phoenix:20251206T140000
DTEND;TZID=America/Phoenix:20251206T160000
DTSTAMP:20260420T000334
CREATED:20251108T163100Z
LAST-MODIFIED:20251108T163100Z
UID:20421-1765029600-1765036800@centralmountain.org
SUMMARY:Holiday Bingo
DESCRIPTION:Holiday Bingo 2025
URL:https://centralmountain.org/event/holiday-bingo/
LOCATION:Alano Club\, 1308 E Cherry St\, Cottonwood\, Arizona\, 86326
CATEGORIES:CMI Events
ORGANIZER;CN="Central%20Mountain%20Intergroup":MAILTO:aa@centralmountain.org
END:VEVENT
END:VCALENDAR